BEGIN:VCALENDAR
VERSION:2.0
PRODID:-//Sandra Bornstein Holocaust Education Center - ECPv6.15.20//NONSGML v1.0//EN
CALSCALE:GREGORIAN
METHOD:PUBLISH
X-ORIGINAL-URL:https://bornsteinholocaustcenter.org
X-WR-CALDESC:Events for Sandra Bornstein Holocaust Education Center
REFRESH-INTERVAL;VALUE=DURATION:PT1H
X-Robots-Tag:noindex
X-PUBLISHED-TTL:PT1H
BEGIN:VTIMEZONE
TZID:America/New_York
BEGIN:DAYLIGHT
TZOFFSETFROM:-0500
TZOFFSETTO:-0400
TZNAME:EDT
DTSTART:20250309T070000
END:DAYLIGHT
BEGIN:STANDARD
TZOFFSETFROM:-0400
TZOFFSETTO:-0500
TZNAME:EST
DTSTART:20251102T060000
END:STANDARD
BEGIN:DAYLIGHT
TZOFFSETFROM:-0500
TZOFFSETTO:-0400
TZNAME:EDT
DTSTART:20260308T070000
END:DAYLIGHT
BEGIN:STANDARD
TZOFFSETFROM:-0400
TZOFFSETTO:-0500
TZNAME:EST
DTSTART:20261101T060000
END:STANDARD
BEGIN:DAYLIGHT
TZOFFSETFROM:-0500
TZOFFSETTO:-0400
TZNAME:EDT
DTSTART:20270314T070000
END:DAYLIGHT
BEGIN:STANDARD
TZOFFSETFROM:-0400
TZOFFSETTO:-0500
TZNAME:EST
DTSTART:20271107T060000
END:STANDARD
END:VTIMEZONE
BEGIN:VEVENT
DTSTART;TZID=America/New_York:20260329T100000
DTEND;TZID=America/New_York:20260329T233000
DTSTAMP:20260422T114922
CREATED:20250827T004001Z
LAST-MODIFIED:20260302T151454Z
UID:8772-1774778400-1774827000@bornsteinholocaustcenter.org
SUMMARY:Baxt Lecture: Jews Finding Shelter Among Roma in German-Occupied Poland during World War II
DESCRIPTION:Join us for a Baxt lecture with Dr. Justyna Matkowska\, who will speak on the experiences of Jews who found shelter and support among Roma communities during the Holocaust. Her lecture explores themes of resilience\, solidarity\, and the complexity of human choices under Nazi persecution. \n\n\n\nDr. Justyna Matkowska is a scholar of Holocaust history whose work focuses on Jewish–Roma relations in German-occupied Poland. She emphasizes themes of resilience\, solidarity\, and the moral choices faced during Nazi persecution. \n\n\n\n\n\n\n\nRomani prisoners in a camp © USHMM \n\n\n\nLocation: Temple Emanu-El  \n\n\n\nAddress: 99 Taft Ave\, Providence\, RI 02906.
URL:https://bornsteinholocaustcenter.org/event/jews-finding-shelter-among-roma-in-german-occupied-poland-during-world-war-ii/
LOCATION:Temple Emanu-El\, 99 Taft Avenue\, Providence\, RI\, 02906\, United States
ATTACH;FMTTYPE=image/jpeg:https://bornsteinholocaustcenter.org/wp-content/uploads/2025/08/bc8389c2-055f-4c37-bd48-36681987a68d.jpg
END:VEVENT
END:VCALENDAR